BEGIN:VCALENDAR
VERSION:2.0
PRODID:-//hacksw/handcal//NONSGML v1.0//EN
CALSCALE:GREGORIAN
BEGIN:VEVENT
DTSTART:20250309T080000Z
DTEND:20250309T090000Z
UID:e30224
DTSTAMP:20260422T182650Z
LOCATION:Sussman Family Building for Environmental Sciences
DESCRIPTION:On Light Propagation in Clouds and Light Flashes Above Clouds: Two Crazy Ideas\, Two New Models
SUMMARY:On Light Propagation in Clouds and Light Flashes Above Clouds: Two Crazy Ideas\, Two New Models
END:VEVENT
END:VCALENDAR