BEGIN:VCALENDAR
VERSION:2.0
PRODID:-//hacksw/handcal//NONSGML v1.0//EN
CALSCALE:GREGORIAN
BEGIN:VEVENT
DTSTART:20250209T094500Z
DTEND:20250209T111500Z
UID:e30232
DTSTAMP:20260419T182114Z
LOCATION:Nella and Leon Benoziyo Physics Library
DESCRIPTION:The Clore Center for Biological  Physics
SUMMARY:The Clore Center for Biological  Physics
END:VEVENT
END:VCALENDAR