BEGIN:VCALENDAR
VERSION:2.0
PRODID:-//hacksw/handcal//NONSGML v1.0//EN
CALSCALE:GREGORIAN
BEGIN:VEVENT
DTSTART:20250226T110000Z
DTEND:20250226T120000Z
UID:e30236
DTSTAMP:20260421T051149Z
LOCATION:Gerhard M.J. Schmidt Lecture Hall
DESCRIPTION:Systems biology of disordered proteins and biomolecular condensates
SUMMARY:Systems biology of disordered proteins and biomolecular condensates
END:VEVENT
END:VCALENDAR