BEGIN:VCALENDAR
VERSION:2.0
PRODID:-//hacksw/handcal//NONSGML v1.0//EN
CALSCALE:GREGORIAN
BEGIN:VEVENT
DTSTART:20250216T094500Z
DTEND:20250216T113000Z
UID:e30262
DTSTAMP:20260421T114701Z
LOCATION:
DESCRIPTION:The Clore Center for Biological Physics
SUMMARY:The Clore Center for Biological Physics
END:VEVENT
END:VCALENDAR