BEGIN:VCALENDAR
VERSION:2.0
PRODID:-//hacksw/handcal//NONSGML v1.0//EN
CALSCALE:GREGORIAN
BEGIN:VEVENT
DTSTART:20250313T120000Z
DTEND:20250313T130000Z
UID:e30274
DTSTAMP:20260420T173723Z
LOCATION:
DESCRIPTION:Synthetic biology platforms for biomedical applicationsnnounced
SUMMARY:Synthetic biology platforms for biomedical applicationsnnounced
END:VEVENT
END:VCALENDAR