BEGIN:VCALENDAR
VERSION:2.0
PRODID:-//hacksw/handcal//NONSGML v1.0//EN
CALSCALE:GREGORIAN
BEGIN:VEVENT
DTSTART:20250312T070000Z
DTEND:20250312T080000Z
UID:e30296
DTSTAMP:20260420T173704Z
LOCATION:Arthur and Rochelle Belfer Building for Biomedical Research
DESCRIPTION:Birthday hormone: the neuroendocrine control of hatching in fish
SUMMARY:Birthday hormone: the neuroendocrine control of hatching in fish
END:VEVENT
END:VCALENDAR