BEGIN:VCALENDAR
VERSION:2.0
PRODID:-//hacksw/handcal//NONSGML v1.0//EN
CALSCALE:GREGORIAN
BEGIN:VEVENT
DTSTART:20250330T081500Z
DTEND:20250330T091500Z
UID:e30298
DTSTAMP:20260420T173724Z
LOCATION:
DESCRIPTION:Special Guest Seminar - Dr. Thierry Nordmann
SUMMARY:Special Guest Seminar - Dr. Thierry Nordmann
END:VEVENT
END:VCALENDAR