BEGIN:VCALENDAR
VERSION:2.0
PRODID:-//hacksw/handcal//NONSGML v1.0//EN
CALSCALE:GREGORIAN
BEGIN:VEVENT
DTSTART:20250421T120000Z
DTEND:20250421T140000Z
UID:e30316
DTSTAMP:20260422T041902Z
LOCATION:The David Lopatie Conference Centre
DESCRIPTION:Scientific Council Meeting - Steering 2025
SUMMARY:Scientific Council Meeting - Steering 2025
END:VEVENT
END:VCALENDAR