BEGIN:VCALENDAR
VERSION:2.0
PRODID:-//hacksw/handcal//NONSGML v1.0//EN
CALSCALE:GREGORIAN
BEGIN:VEVENT
DTSTART:20250616T120000Z
DTEND:20250616T140000Z
UID:e30318
DTSTAMP:20260420T155002Z
LOCATION:The David Lopatie Conference Centre
DESCRIPTION:Scientific Council Meeting - Steering 2025
SUMMARY:Scientific Council Meeting - Steering 2025
END:VEVENT
END:VCALENDAR