BEGIN:VCALENDAR
VERSION:2.0
PRODID:-//hacksw/handcal//NONSGML v1.0//EN
CALSCALE:GREGORIAN
BEGIN:VEVENT
DTSTART:20250421T110000Z
DTEND:20250421T120000Z
UID:e30332
DTSTAMP:20260422T120929Z
LOCATION:Gerhard M.J. Schmidt Lecture Hall
DESCRIPTION:Plenary talk in memory of Prof. Haim Garty
SUMMARY:Plenary talk in memory of Prof. Haim Garty
END:VEVENT
END:VCALENDAR