BEGIN:VCALENDAR
VERSION:2.0
PRODID:-//hacksw/handcal//NONSGML v1.0//EN
CALSCALE:GREGORIAN
BEGIN:VEVENT
DTSTART:20250323T080000Z
DTEND:20250323T090000Z
UID:e30336
DTSTAMP:20260421T213539Z
LOCATION:Sussman Family Building for Environmental Sciences
DESCRIPTION:Reduced N-fixation in the Low Latitude Atlantic during the Warmer Pliocene
SUMMARY:Reduced N-fixation in the Low Latitude Atlantic during the Warmer Pliocene
END:VEVENT
END:VCALENDAR