BEGIN:VCALENDAR
VERSION:2.0
PRODID:-//hacksw/handcal//NONSGML v1.0//EN
CALSCALE:GREGORIAN
BEGIN:VEVENT
DTSTART:20250329T080000Z
DTEND:20250329T090000Z
UID:e30358
DTSTAMP:20260420T173728Z
LOCATION:Michael Sela Auditorium
DESCRIPTION:A Visitor for Bear | Mediatheque Theater
SUMMARY:A Visitor for Bear | Mediatheque Theater
END:VEVENT
END:VCALENDAR