BEGIN:VCALENDAR
VERSION:2.0
PRODID:-//hacksw/handcal//NONSGML v1.0//EN
CALSCALE:GREGORIAN
BEGIN:VEVENT
DTSTART:20250401T180000Z
DTEND:20250401T191500Z
UID:e30360
DTSTAMP:20260420T173721Z
LOCATION:Michael Sela Auditorium
DESCRIPTION:Sela Jazz Bar #4 From East to West I Turkiz Ensemble
SUMMARY:Sela Jazz Bar #4 From East to West I Turkiz Ensemble
END:VEVENT
END:VCALENDAR