BEGIN:VCALENDAR
VERSION:2.0
PRODID:-//hacksw/handcal//NONSGML v1.0//EN
CALSCALE:GREGORIAN
BEGIN:VEVENT
DTSTART:20250410T170000Z
DTEND:20250410T200000Z
UID:e30366
DTSTAMP:20260422T091155Z
LOCATION:Michael Sela Auditorium
DESCRIPTION:London National Theatre Live on Screen | The Importance of Being Earnest
SUMMARY:London National Theatre Live on Screen | The Importance of Being Earnest
END:VEVENT
END:VCALENDAR