BEGIN:VCALENDAR
VERSION:2.0
PRODID:-//hacksw/handcal//NONSGML v1.0//EN
CALSCALE:GREGORIAN
BEGIN:VEVENT
DTSTART:20250327T081500Z
DTEND:20250327T091500Z
UID:e30394
DTSTAMP:20260422T034653Z
LOCATION:
DESCRIPTION:Simulating high-temperature superconductivity in a triangular moiré lattice
SUMMARY:Simulating high-temperature superconductivity in a triangular moiré lattice
END:VEVENT
END:VCALENDAR