BEGIN:VCALENDAR
VERSION:2.0
PRODID:-//hacksw/handcal//NONSGML v1.0//EN
CALSCALE:GREGORIAN
BEGIN:VEVENT
DTSTART:20250401T081500Z
DTEND:20250401T100000Z
UID:e30428
DTSTAMP:20260420T173724Z
LOCATION:Arthur and Rochelle Belfer Building for Biomedical Research
DESCRIPTION:Lior Gorodisky - PhD Thesis Defense
SUMMARY:Lior Gorodisky - PhD Thesis Defense
END:VEVENT
END:VCALENDAR