BEGIN:VCALENDAR
VERSION:2.0
PRODID:-//hacksw/handcal//NONSGML v1.0//EN
CALSCALE:GREGORIAN
BEGIN:VEVENT
DTSTART:20250331T111500Z
DTEND:20250331T130000Z
UID:e30436
DTSTAMP:20260420T173732Z
LOCATION:Jacob Ziskind Building
DESCRIPTION:Midrasha on Groups Seminar
SUMMARY:Midrasha on Groups Seminar
END:VEVENT
END:VCALENDAR