BEGIN:VCALENDAR
VERSION:2.0
PRODID:-//hacksw/handcal//NONSGML v1.0//EN
CALSCALE:GREGORIAN
BEGIN:VEVENT
DTSTART:20250504T090000Z
DTEND:20250504T110000Z
UID:e30472
DTSTAMP:20260421T173916Z
LOCATION:
DESCRIPTION:PhD Defense - Preethi Rajamannar- Levkowitz lab
SUMMARY:PhD Defense - Preethi Rajamannar- Levkowitz lab
END:VEVENT
END:VCALENDAR