BEGIN:VCALENDAR
VERSION:2.0
PRODID:-//hacksw/handcal//NONSGML v1.0//EN
CALSCALE:GREGORIAN
BEGIN:VEVENT
DTSTART:20250420T120000Z
DTEND:20250420T140000Z
UID:e30474
DTSTAMP:20260422T041910Z
LOCATION:
DESCRIPTION:PhD Thesis Defense - Nofar Gumpert- Advisor: Prof Yardena Samuels  -MCB
SUMMARY:PhD Thesis Defense - Nofar Gumpert- Advisor: Prof Yardena Samuels  -MCB
END:VEVENT
END:VCALENDAR