BEGIN:VCALENDAR
VERSION:2.0
PRODID:-//hacksw/handcal//NONSGML v1.0//EN
CALSCALE:GREGORIAN
BEGIN:VEVENT
DTSTART:20250526T080000Z
DTEND:20250526T110000Z
UID:e30512
DTSTAMP:20260421T213521Z
LOCATION:The David Lopatie Conference Centre
DESCRIPTION:AI Acceleration Grants Colloquium
SUMMARY:AI Acceleration Grants Colloquium
END:VEVENT
END:VCALENDAR