BEGIN:VCALENDAR
VERSION:2.0
PRODID:-//hacksw/handcal//NONSGML v1.0//EN
CALSCALE:GREGORIAN
BEGIN:VEVENT
DTSTART:20250504T080000Z
DTEND:20250504T090000Z
UID:e30530
DTSTAMP:20260421T174019Z
LOCATION:Sussman Family Building for Environmental Sciences
DESCRIPTION:Climate Change Impacts in the Eastern Mediterranean Sea: Trends and Extremes
SUMMARY:Climate Change Impacts in the Eastern Mediterranean Sea: Trends and Extremes
END:VEVENT
END:VCALENDAR