BEGIN:VCALENDAR
VERSION:2.0
PRODID:-//hacksw/handcal//NONSGML v1.0//EN
CALSCALE:GREGORIAN
BEGIN:VEVENT
DTSTART:20250518T080000Z
DTEND:20250518T090000Z
UID:e30532
DTSTAMP:20260420T065132Z
LOCATION:Sussman Family Building for Environmental Sciences
DESCRIPTION:Photonic seismology
SUMMARY:Photonic seismology
END:VEVENT
END:VCALENDAR