BEGIN:VCALENDAR
VERSION:2.0
PRODID:-//hacksw/handcal//NONSGML v1.0//EN
CALSCALE:GREGORIAN
BEGIN:VEVENT
DTSTART:20250518T100000Z
DTEND:20250518T110000Z
UID:e30534
DTSTAMP:20260420T122409Z
LOCATION:Nella and Leon Benoziyo Building for Biological Sciences
DESCRIPTION:The Age of Plastic: A Blessing or A Curse?
SUMMARY:The Age of Plastic: A Blessing or A Curse?
END:VEVENT
END:VCALENDAR