BEGIN:VCALENDAR
VERSION:2.0
PRODID:-//hacksw/handcal//NONSGML v1.0//EN
CALSCALE:GREGORIAN
BEGIN:VEVENT
DTSTART:20250520T110000Z
DTEND:20250520T120000Z
UID:e30542
DTSTAMP:20260420T195148Z
LOCATION:Gerhard M.J. Schmidt Lecture Hall
DESCRIPTION:Molecular Motors and ATP: Orchestrating Biological Functionality
SUMMARY:Molecular Motors and ATP: Orchestrating Biological Functionality
END:VEVENT
END:VCALENDAR