BEGIN:VCALENDAR
VERSION:2.0
PRODID:-//hacksw/handcal//NONSGML v1.0//EN
CALSCALE:GREGORIAN
BEGIN:VEVENT
DTSTART:20250525T080000Z
DTEND:20250525T090000Z
UID:e30568
DTSTAMP:20260422T033940Z
LOCATION:Sussman Family Building for Environmental Sciences
DESCRIPTION:On the role of domain aspect ratio in the westward intensification of wind-driven surface ocean circulation
SUMMARY:On the role of domain aspect ratio in the westward intensification of wind-driven surface ocean circulation
END:VEVENT
END:VCALENDAR