BEGIN:VCALENDAR
VERSION:2.0
PRODID:-//hacksw/handcal//NONSGML v1.0//EN
CALSCALE:GREGORIAN
BEGIN:VEVENT
DTSTART:20250526T111500Z
DTEND:20250526T130000Z
UID:e30596
DTSTAMP:20260419T134334Z
LOCATION:Jacob Ziskind Building
DESCRIPTION:Midrasha on Groups Seminar
SUMMARY:Midrasha on Groups Seminar
END:VEVENT
END:VCALENDAR