BEGIN:VCALENDAR
VERSION:2.0
PRODID:-//hacksw/handcal//NONSGML v1.0//EN
CALSCALE:GREGORIAN
BEGIN:VEVENT
DTSTART:20250615T120000Z
DTEND:20250615T130000Z
UID:e30624
DTSTAMP:20260421T180751Z
LOCATION:
DESCRIPTION:New aspects of beta cell physiology revealed by mTOR signaling
SUMMARY:New aspects of beta cell physiology revealed by mTOR signaling
END:VEVENT
END:VCALENDAR