BEGIN:VCALENDAR
VERSION:2.0
PRODID:-//hacksw/handcal//NONSGML v1.0//EN
CALSCALE:GREGORIAN
BEGIN:VEVENT
DTSTART:20250616T063000Z
DTEND:20250616T073000Z
UID:e30646
DTSTAMP:20260420T054923Z
LOCATION:
DESCRIPTION:Special Seminar: A Purpose-Designed Flow Cytometer for Nanoparticle Research – CytoFLEX Nano
SUMMARY:Special Seminar: A Purpose-Designed Flow Cytometer for Nanoparticle Research – CytoFLEX Nano
END:VEVENT
END:VCALENDAR