BEGIN:VCALENDAR
VERSION:2.0
PRODID:-//hacksw/handcal//NONSGML v1.0//EN
CALSCALE:GREGORIAN
BEGIN:VEVENT
DTSTART:20250619T081500Z
DTEND:20250619T093000Z
UID:e30662
DTSTAMP:20260421T102932Z
LOCATION:
DESCRIPTION:Physics Colloquium
SUMMARY:Physics Colloquium
END:VEVENT
END:VCALENDAR