BEGIN:VCALENDAR
VERSION:2.0
PRODID:-//hacksw/handcal//NONSGML v1.0//EN
CALSCALE:GREGORIAN
BEGIN:VEVENT
DTSTART:20250804T050000Z
DTEND:20250804T050000Z
UID:e30668
DTSTAMP:20260422T033939Z
LOCATION:The David Lopatie Conference Centre
DESCRIPTION:21th Annual Meeting of Medicinal Chemistry Section of the Israel Chemical Society (MCS-ICS)
SUMMARY:21th Annual Meeting of Medicinal Chemistry Section of the Israel Chemical Society (MCS-ICS)
END:VEVENT
END:VCALENDAR