BEGIN:VCALENDAR
VERSION:2.0
PRODID:-//hacksw/handcal//NONSGML v1.0//EN
CALSCALE:GREGORIAN
BEGIN:VEVENT
DTSTART:20250807T100000Z
DTEND:20250807T110000Z
UID:e30692
DTSTAMP:20260421T085232Z
LOCATION:Nella and Leon Benoziyo Building for Biological Sciences
DESCRIPTION:PhD Thesis Defense by Yarden Ariav (Prof. Ayelet Erez Lab)
SUMMARY:PhD Thesis Defense by Yarden Ariav (Prof. Ayelet Erez Lab)
END:VEVENT
END:VCALENDAR