BEGIN:VCALENDAR
VERSION:2.0
PRODID:-//hacksw/handcal//NONSGML v1.0//EN
CALSCALE:GREGORIAN
BEGIN:VEVENT
DTSTART:20250819T083000Z
DTEND:20250819T093000Z
UID:e30704
DTSTAMP:20260421T102933Z
LOCATION:Stone Administration Building
DESCRIPTION:Enhancing Atmospheric Lidar Analysis for Climate Research
SUMMARY:Enhancing Atmospheric Lidar Analysis for Climate Research
END:VEVENT
END:VCALENDAR