BEGIN:VCALENDAR
VERSION:2.0
PRODID:-//hacksw/handcal//NONSGML v1.0//EN
CALSCALE:GREGORIAN
BEGIN:VEVENT
DTSTART:20250918T110000Z
DTEND:20250918T120000Z
UID:e30710
DTSTAMP:20260421T085320Z
LOCATION:Max and Lillian Candiotty Building
DESCRIPTION:A Deep Dive into Immune Tolerance
SUMMARY:A Deep Dive into Immune Tolerance
END:VEVENT
END:VCALENDAR