BEGIN:VCALENDAR
VERSION:2.0
PRODID:-//hacksw/handcal//NONSGML v1.0//EN
CALSCALE:GREGORIAN
BEGIN:VEVENT
DTSTART:20250902T093000Z
DTEND:20250902T103000Z
UID:e30738
DTSTAMP:20260421T085326Z
LOCATION:Arthur and Rochelle Belfer Building for Biomedical Research
DESCRIPTION:Towards Scalable Pooled Optical Profiling and perturbation of Sub-Cellular Proteome Organization
SUMMARY:Towards Scalable Pooled Optical Profiling and perturbation of Sub-Cellular Proteome Organization
END:VEVENT
END:VCALENDAR