BEGIN:VCALENDAR
VERSION:2.0
PRODID:-//hacksw/handcal//NONSGML v1.0//EN
CALSCALE:GREGORIAN
BEGIN:VEVENT
DTSTART:20251027T080000Z
DTEND:20251027T091500Z
UID:e30742
DTSTAMP:20260422T091153Z
LOCATION:Gerhard M.J. Schmidt Lecture Hall
DESCRIPTION:Phonons: Their role in thermodynamics\, and other reasons why they are interesting
SUMMARY:Phonons: Their role in thermodynamics\, and other reasons why they are interesting
END:VEVENT
END:VCALENDAR