BEGIN:VCALENDAR
VERSION:2.0
PRODID:-//hacksw/handcal//NONSGML v1.0//EN
CALSCALE:GREGORIAN
BEGIN:VEVENT
DTSTART:20251124T080000Z
DTEND:20251124T091500Z
UID:e30750
DTSTAMP:20260420T093347Z
LOCATION:Gerhard M.J. Schmidt Lecture Hall
DESCRIPTION:Annual Gerhard Schmidt Lecture
SUMMARY:Annual Gerhard Schmidt Lecture
END:VEVENT
END:VCALENDAR