BEGIN:VCALENDAR
VERSION:2.0
PRODID:-//hacksw/handcal//NONSGML v1.0//EN
CALSCALE:GREGORIAN
BEGIN:VEVENT
DTSTART:20251201T080000Z
DTEND:20251201T091500Z
UID:e30758
DTSTAMP:20260420T173718Z
LOCATION:Gerhard M.J. Schmidt Lecture Hall
DESCRIPTION:Hydration lubrication: from basics to the clinic
SUMMARY:Hydration lubrication: from basics to the clinic
END:VEVENT
END:VCALENDAR