BEGIN:VCALENDAR
VERSION:2.0
PRODID:-//hacksw/handcal//NONSGML v1.0//EN
CALSCALE:GREGORIAN
BEGIN:VEVENT
DTSTART:20251104T080000Z
DTEND:20251104T090000Z
UID:e30772
DTSTAMP:20260420T195045Z
LOCATION:Max and Lillian Candiotty Building
DESCRIPTION:From Defense to Dysregulation: Understanding Neutrophil Biology in Health and Disease
SUMMARY:From Defense to Dysregulation: Understanding Neutrophil Biology in Health and Disease
END:VEVENT
END:VCALENDAR