BEGIN:VCALENDAR
VERSION:2.0
PRODID:-//hacksw/handcal//NONSGML v1.0//EN
CALSCALE:GREGORIAN
BEGIN:VEVENT
DTSTART:20251204T110000Z
DTEND:20251204T120000Z
UID:e30780
DTSTAMP:20260420T045934Z
LOCATION:
DESCRIPTION:Can one bug do it? - from the gut microbiome to anti-tumor immunity
SUMMARY:Can one bug do it? - from the gut microbiome to anti-tumor immunity
END:VEVENT
END:VCALENDAR