BEGIN:VCALENDAR
VERSION:2.0
PRODID:-//hacksw/handcal//NONSGML v1.0//EN
CALSCALE:GREGORIAN
BEGIN:VEVENT
DTSTART:20251104T081500Z
DTEND:20251104T091500Z
UID:e30790
DTSTAMP:20260421T060153Z
LOCATION:Gerhard M.J. Schmidt Lecture Hall
DESCRIPTION:Optimizing your transcription factors: a free lunch?
SUMMARY:Optimizing your transcription factors: a free lunch?
END:VEVENT
END:VCALENDAR