BEGIN:VCALENDAR
VERSION:2.0
PRODID:-//hacksw/handcal//NONSGML v1.0//EN
CALSCALE:GREGORIAN
BEGIN:VEVENT
DTSTART:20251113T070000Z
DTEND:20251113T080000Z
UID:e30794
DTSTAMP:20260421T085049Z
LOCATION:Arthur and Rochelle Belfer Building for Biomedical Research
DESCRIPTION:Making intrinsically disordered proteins druggable with molecular glues for the 14-3-3 interactome – From fragment-based drug discovery to biomolecular condensates
SUMMARY:Making intrinsically disordered proteins druggable with molecular glues for the 14-3-3 interactome – From fragment-based drug discovery to biomolecular condensates
END:VEVENT
END:VCALENDAR