BEGIN:VCALENDAR
VERSION:2.0
PRODID:-//hacksw/handcal//NONSGML v1.0//EN
CALSCALE:GREGORIAN
BEGIN:VEVENT
DTSTART:20251112T080000Z
DTEND:20251112T090000Z
UID:e30826
DTSTAMP:20260420T194147Z
LOCATION:
DESCRIPTION:Prof. Israel Rubinstein ﻿5th Memorial Lecture
SUMMARY:Prof. Israel Rubinstein ﻿5th Memorial Lecture
END:VEVENT
END:VCALENDAR