BEGIN:VCALENDAR
VERSION:2.0
PRODID:-//hacksw/handcal//NONSGML v1.0//EN
CALSCALE:GREGORIAN
BEGIN:VEVENT
DTSTART:20251203T110000Z
DTEND:20251203T123000Z
UID:e30828
DTSTAMP:20260420T054930Z
LOCATION:George and Esther Sagan Students' Residence Hall
DESCRIPTION:ABC CHATS: Rotem Tidhar -TripleW
SUMMARY:ABC CHATS: Rotem Tidhar -TripleW
END:VEVENT
END:VCALENDAR