BEGIN:VCALENDAR
VERSION:2.0
PRODID:-//hacksw/handcal//NONSGML v1.0//EN
CALSCALE:GREGORIAN
BEGIN:VEVENT
DTSTART:20251104T080000Z
DTEND:20251104T090000Z
UID:e30832
DTSTAMP:20260420T230212Z
LOCATION:Jacob Ziskind Building
DESCRIPTION:Mathematics Colloquium
SUMMARY:Mathematics Colloquium
END:VEVENT
END:VCALENDAR