BEGIN:VCALENDAR
VERSION:2.0
PRODID:-//hacksw/handcal//NONSGML v1.0//EN
CALSCALE:GREGORIAN
BEGIN:VEVENT
DTSTART:20251109T080000Z
DTEND:20251109T090000Z
UID:e30842
DTSTAMP:20260421T060035Z
LOCATION:Stone Administration Building
DESCRIPTION:It’s desert time
SUMMARY:It’s desert time
END:VEVENT
END:VCALENDAR