BEGIN:VCALENDAR
VERSION:2.0
PRODID:-//hacksw/handcal//NONSGML v1.0//EN
CALSCALE:GREGORIAN
BEGIN:VEVENT
DTSTART:20251104T111000Z
DTEND:20251104T123000Z
UID:e30850
DTSTAMP:20260421T051425Z
LOCATION:Nella and Leon Benoziyo Building for Biological Sciences
DESCRIPTION:Weizmann Orrnithology monthly lecture
SUMMARY:Weizmann Orrnithology monthly lecture
END:VEVENT
END:VCALENDAR