BEGIN:VCALENDAR
VERSION:2.0
PRODID:-//hacksw/handcal//NONSGML v1.0//EN
CALSCALE:GREGORIAN
BEGIN:VEVENT
DTSTART:20251104T111000Z
DTEND:20251104T123000Z
UID:e30852
DTSTAMP:20260420T190121Z
LOCATION:
DESCRIPTION:Weizmann Ornithology monthly lecture
SUMMARY:Weizmann Ornithology monthly lecture
END:VEVENT
END:VCALENDAR