BEGIN:VCALENDAR
VERSION:2.0
PRODID:-//hacksw/handcal//NONSGML v1.0//EN
CALSCALE:GREGORIAN
BEGIN:VEVENT
DTSTART:20251113T060000Z
DTEND:20251113T070000Z
UID:e30856
DTSTAMP:20260420T173724Z
LOCATION:
DESCRIPTION:Demonstration & Training Seminar - VIEWSIZER - 13th & 16th Nov25
SUMMARY:Demonstration & Training Seminar - VIEWSIZER - 13th & 16th Nov25
END:VEVENT
END:VCALENDAR