BEGIN:VCALENDAR
VERSION:2.0
PRODID:-//hacksw/handcal//NONSGML v1.0//EN
CALSCALE:GREGORIAN
BEGIN:VEVENT
DTSTART:20250916T130000Z
DTEND:20250916T140000Z
UID:e30866
DTSTAMP:20260421T174041Z
LOCATION:
DESCRIPTION:EPS AI discussion (via zoom): Advances in Inferring Air Quality from Global to Local Scales using Deep Learning Constrained by Satellite Remote Sensing and Modeling
SUMMARY:EPS AI discussion (via zoom): Advances in Inferring Air Quality from Global to Local Scales using Deep Learning Constrained by Satellite Remote Sensing and Modeling
END:VEVENT
END:VCALENDAR