BEGIN:VCALENDAR
VERSION:2.0
PRODID:-//hacksw/handcal//NONSGML v1.0//EN
CALSCALE:GREGORIAN
BEGIN:VEVENT
DTSTART:20250527T120000Z
DTEND:20250527T130000Z
UID:e30870
DTSTAMP:20260420T054937Z
LOCATION:Sussman Family Building for Environmental Sciences
DESCRIPTION:EPS AI discussion: Geospatial AI Foundation Models
SUMMARY:EPS AI discussion: Geospatial AI Foundation Models
END:VEVENT
END:VCALENDAR